BEGIN:VCALENDAR
VERSION:2.0
PRODID:-//ChamberMaster//Event Calendar 2.0//EN
METHOD:PUBLISH
X-PUBLISHED-TTL:P3D
REFRESH-INTERVAL:P3D
CALSCALE:GREGORIAN
BEGIN:VEVENT
DTSTART:20180621T213000Z
DTEND:20180622T000000Z
X-MICROSOFT-CDO-ALLDAYEVENT:FALSE
SUMMARY:Young Building Professionals Mixer
DESCRIPTION:Grab a co-worker or friend and come out to mix and mingle with the Young Building Professionals and the Venice Area Young Building Professionals. Whether you are young or young at heart join us for some cocktails\, appetizers and networking fun!
X-ALT-DESC;FMTTYPE=text/html:<span style="color: rgb(51\, 51\, 51)\; font-family: sans-serif\, Arial\, Verdana\, &quot\;Trebuchet MS&quot\;\; font-size: 13px\; background-color: rgb(255\, 255\, 255)\;">Grab a co-worker or friend and come out to mix and mingle with the Young Building Professionals and the Venice Area Young Building Professionals. Whether you are young or young at heart join us for some cocktails\, appetizers and networking fun!</span>
LOCATION:Calusa Brewing 5701 Derek Avenue Sarasota\, FL 34233
UID:e.9232.1817
SEQUENCE:3
DTSTAMP:20260423T115000Z
URL:https://business.ms-bia.org/events/details/young-building-professionals-mixer-06-21-2018-1817
END:VEVENT

END:VCALENDAR
