BEGIN:VCALENDAR
VERSION:2.0
PRODID:-//ChamberMaster//Event Calendar 2.0//EN
METHOD:PUBLISH
X-PUBLISHED-TTL:P3D
REFRESH-INTERVAL:P3D
CALSCALE:GREGORIAN
BEGIN:VEVENT
DTSTART:20171026T213000Z
DTEND:20171027T000000Z
X-MICROSOFT-CDO-ALLDAYEVENT:FALSE
SUMMARY:Young Builders Network Mixer October 2017
DESCRIPTION:Grab a co-worker or friend and come out to mix and mingle with the Young Builders Network. Whether you are young or young at heart join us for some cocktails\, appetizers and networking fun!
X-ALT-DESC;FMTTYPE=text/html:Grab a co-worker or friend and come out to mix and mingle with the Young Builders Network. Whether you are young or young at heart join us for some cocktails\, appetizers and networking fun!
LOCATION:Stottlemyers Smokehouse 19 East Rd\, Sarasota FL\, 34240
UID:e.9232.1585
SEQUENCE:3
DTSTAMP:20260422T214833Z
URL:https://business.ms-bia.org/events/details/young-builders-network-mixer-october-2017-1585
END:VEVENT

END:VCALENDAR
