BEGIN:VCALENDAR
VERSION:2.0
PRODID:-//ChamberMaster//Event Calendar 2.0//EN
METHOD:PUBLISH
X-PUBLISHED-TTL:P3D
REFRESH-INTERVAL:P3D
CALSCALE:GREGORIAN
BEGIN:VEVENT
DTSTART:20171116T223000Z
DTEND:20171117T010000Z
X-MICROSOFT-CDO-ALLDAYEVENT:FALSE
SUMMARY:Young Builders Network Mixer November 2017
DESCRIPTION:Grab a co-worker or friend and come out to mix and mingle with the Young Builders Network.. Whether you are young or young at heart join us for some cocktails\, appetizers and networking fun!\n\n\n\nFOOD DRIVE!!!\nHere is a list of food items that All Faith's was looking to collect for holiday meals.\n\n \n\n*Canned Items: Green beans\, Corn\, Peas\, Carrots\, Potatoes\, Yams\, Cranberry\, Canned Fruit/Cups\, Fruit juices\n\nOther Items: Shelf stable milk\, Peanut butter & jelly\n\n \n\nThese are just to name a few\; but all items would be accepted
X-ALT-DESC;FMTTYPE=text/html:Grab a co-worker or friend and come out to mix and mingle with the Young Builders Network.. Whether you are young or young at heart join us for some cocktails\, appetizers and networking fun!<br />\n<br />\nFOOD DRIVE!!!\n<p class="x_MsoNormal" style="margin: 0in 0in 0.0001pt\; font-size: 11pt\; font-family: Calibri\, sans-serif\; color: rgb(33\, 33\, 33)\;"><span style="font-family:arial\;"><span style="font-size: 12pt\;">Here is a list of food items that All Faith&rsquo\;s was looking to collect for&nbsp\;holiday meals.</span></span></p>\n\n<p class="x_MsoNormal" style="margin: 0in 0in 0.0001pt\; font-size: 11pt\; font-family: Calibri\, sans-serif\; color: rgb(33\, 33\, 33)\;">&nbsp\;</p>\n\n<p class="x_MsoNormal" style="margin: 0in 0in 0.0001pt\; font-size: 11pt\; font-family: Calibri\, sans-serif\; color: rgb(33\, 33\, 33)\;"><span style="font-family:arial\;"><span style="font-size: 12pt\;">*Canned Items:&nbsp\;</span></span><span style="font-family:arial\;"><span style="font-size: 12pt\;">Green beans\,&nbsp\;</span></span><span style="font-family:arial\;"><span style="font-size: 12pt\;">Corn\,&nbsp\;</span></span><span style="font-family:arial\;"><span style="font-size: 12pt\;">Peas\,&nbsp\;</span></span><span style="font-family:arial\;"><span style="font-size: 12pt\;">Carrots\,&nbsp\;</span></span><span style="font-family:arial\;"><span style="font-size: 12pt\;">Potatoes\,&nbsp\;</span></span><span style="font-family:arial\;"><span style="font-size: 12pt\;">Yams\,&nbsp\;</span></span><span style="font-family:arial\;"><span style="font-size: 12pt\;">Cranberry\,&nbsp\;</span></span><span style="font-family:arial\;"><span style="font-size: 12pt\;">Canned Fruit/Cups\,&nbsp\;</span></span><span style="font-family:arial\;"><span style="font-size: 12pt\;">Fruit juices<br />\nOther Items:&nbsp\;</span></span><span style="font-family:arial\;"><span style="font-size: 12pt\;">Shelf stable milk\,&nbsp\;</span></span><span style="font-family:arial\;"><span style="font-size: 12pt\;">Peanut butter &amp\; jelly</span></span></p>\n\n<p class="x_MsoNormal" style="margin: 0in 0in 0.0001pt\; font-size: 11pt\; font-family: Calibri\, sans-serif\; color: rgb(33\, 33\, 33)\;"><span style="font-family:arial\;"><span style="font-size: 12pt\;">&nbsp\;</span></span></p>\n\n<p class="x_MsoNormal" style="margin: 0in 0in 0.0001pt\; font-size: 11pt\; font-family: Calibri\, sans-serif\; color: rgb(33\, 33\, 33)\;"><span style="font-family:arial\;"><span style="font-size: 12pt\;">These are just to name a few\; but all items would be accepted</span></span></p>\n
LOCATION:Gecko's Fruitville 351 N Cattlemen Rd Sarasota\, FL 34232
UID:e.9232.1586
SEQUENCE:3
DTSTAMP:20260422T233839Z
URL:https://business.ms-bia.org/events/details/young-builders-network-mixer-november-2017-1586
END:VEVENT

END:VCALENDAR
