BEGIN:VCALENDAR
VERSION:2.0
PRODID:-//ChamberMaster//Event Calendar 2.0//EN
METHOD:PUBLISH
X-PUBLISHED-TTL:P3D
REFRESH-INTERVAL:P3D
CALSCALE:GREGORIAN
BEGIN:VEVENT
DTSTART:20170315T213000Z
DTEND:20170316T000000Z
X-MICROSOFT-CDO-ALLDAYEVENT:FALSE
SUMMARY:Young Builders Network Mixer March 2017
DESCRIPTION:Grab a co-worker or friend and come out to mix and mingle with the Young Builders Network.. Whether you are young or young at heart join us for some cocktails\, appetizers\, networking fun AND CORNHOLE COMPETITION!
X-ALT-DESC;FMTTYPE=text/html:Grab a co-worker or friend and come out to mix and mingle with the Young Builders Network.. Whether you are young or young at heart join us for some cocktails\, appetizers\, networking fun&nbsp\;AND CORNHOLE COMPETITION!
LOCATION:Linksters Tap Room 8201 Cooper Creek Blvd University Park (by Bonefish and Total Wine)
UID:e.9232.1578
SEQUENCE:3
DTSTAMP:20260422T104122Z
URL:https://business.ms-bia.org/events/details/young-builders-network-mixer-march-2017-1578
END:VEVENT

END:VCALENDAR
