BEGIN:VCALENDAR
VERSION:2.0
PRODID:-//ChamberMaster//Event Calendar 2.0//EN
METHOD:PUBLISH
X-PUBLISHED-TTL:P3D
REFRESH-INTERVAL:P3D
CALSCALE:GREGORIAN
BEGIN:VEVENT
DTSTART:20160721T210000Z
DTEND:20160721T230000Z
X-MICROSOFT-CDO-ALLDAYEVENT:FALSE
SUMMARY:Young Builders Network Mixer July 2016
DESCRIPTION:Grab a co-worker or friend and come out to mix and mingle with the Young Builders Network.. Whether you are young or young at heart join us for some cocktails\, appetizers and networking fun!\n\n\n\nYBN BRINGS THE SCHOOL SUPPLIES!!!\n\nThe Young Builders Network will be supporting local elementary schools by helping stock backpacks and desks full of school supplies! Please join us at Burger & Beer Joint\, at UTC for drinks and networking. Cost to attend is $10.00 or please bring a gift card or school supplies. With your help we can make this upcoming year more successful for many appreciative students! \n\nItems Requested: Backpacks\, Composition Books\, Folders\, Pens/Pencils/Markers\, Glue Stick\, Tissues\, Hand Sanitizer\n\nGift Cards\n\n\n\nIf you are unable to attend this event but still want to help out\, you can drop off supplies or gift cards at the MSBIA office:\n\nManatee-Sarasota BIA 6983 Professional Parkway East Sarasota\, FL 34240
X-ALT-DESC;FMTTYPE=text/html:Grab a co-worker or friend and come out to mix and mingle with the Young Builders Network.. Whether you are young or young at heart join us for some cocktails\, appetizers and networking fun!<br />\n<br />\nYBN BRINGS THE SCHOOL SUPPLIES!!!<br />\nThe Young Builders Network will be supporting local elementary schools by helping stock backpacks and desks full of school supplies! Please join us at Burger &amp\; Beer Joint\, at UTC for drinks and networking. Cost to attend is $10.00 or please bring a gift card or school supplies. With your help we can make this upcoming year more successful for many appreciative students!<span style="color:#000000\;"><span style="font-size:14px\;"><span style="font-family:arial\;"><span style="font-weight:bold\;language:en-US\;"> </span></span></span></span><br />\nItems Requested:&nbsp\;Backpacks\,&nbsp\;Composition Books\,&nbsp\;Folders\,&nbsp\;Pens/Pencils/Markers\,&nbsp\;Glue Stick\,&nbsp\;Tissues\,&nbsp\;Hand Sanitizer<br />\nGift Cards<br />\n<br />\nIf you are unable to attend this event but still want to help out\, you can drop off supplies or gift cards at the MSBIA office:<br />\nManatee-Sarasota BIA 6983 Professional Parkway East Sarasota\, FL 34240
LOCATION:Burger & Beer Joint UTC Mall Happy Hour from 4-7 PM offering 1/2 off well cocktails\, drafts\, & house wine
UID:e.9232.1243
SEQUENCE:3
DTSTAMP:20260421T221125Z
URL:https://business.ms-bia.org/events/details/young-builders-network-mixer-july-2016-07-21-2016-1243
END:VEVENT

END:VCALENDAR
