BEGIN:VCALENDAR
VERSION:2.0
PRODID:-//ChamberMaster//Event Calendar 2.0//EN
METHOD:PUBLISH
X-PUBLISHED-TTL:P3D
REFRESH-INTERVAL:P3D
CALSCALE:GREGORIAN
BEGIN:VEVENT
DTSTART:20170119T223000Z
DTEND:20170120T010000Z
X-MICROSOFT-CDO-ALLDAYEVENT:FALSE
SUMMARY:Young Builders Network Mixer January 2017
DESCRIPTION:Grab a co-worker or friend and come out to mix and mingle with the Young Builders Network.. Whether you are young or young at heart join us for some cocktails\, appetizers and networking fun!
X-ALT-DESC;FMTTYPE=text/html:Grab a co-worker or friend and come out to mix and mingle with the Young Builders Network.. Whether you are young or young at heart join us for some cocktails\, appetizers and networking fun!<span style="color:#000000\;"><span style="font-size:14px\;"><span style="font-family:arial\;"><span style="font-weight:bold\;language:en-US\;"> </span></span></span></span>
LOCATION:White Horse Pub\, 6240 N Lockwood Ridge Rd\, Sarasota\, FL 342435
UID:e.9232.1576
SEQUENCE:3
DTSTAMP:20260422T070524Z
URL:https://business.ms-bia.org/events/details/young-builders-network-mixer-january-2017-1576
END:VEVENT

END:VCALENDAR
