BEGIN:VCALENDAR
VERSION:2.0
PRODID:-//ChamberMaster//Event Calendar 2.0//EN
METHOD:PUBLISH
X-PUBLISHED-TTL:P3D
REFRESH-INTERVAL:P3D
CALSCALE:GREGORIAN
BEGIN:VEVENT
DTSTART:20180215T223000Z
DTEND:20180216T010000Z
X-MICROSOFT-CDO-ALLDAYEVENT:FALSE
SUMMARY:Young Building Professionals Mixer
DESCRIPTION:Grab a co-worker or friend and come out to mix and mingle with the Young Young Building Professionals . Whether you are young or young at heart join us for some cocktails\, appetizers and networking fun!
X-ALT-DESC;FMTTYPE=text/html:<span style="color: rgb(51\, 51\, 51)\; font-family: sans-serif\, Arial\, Verdana\, &quot\;Trebuchet MS&quot\;\; font-size: 13px\; background-color: rgb(255\, 255\, 255)\;">Grab a co-worker or friend and come out to mix and mingle with the Young </span>Young Building Professionals&nbsp\;<span style="color: rgb(51\, 51\, 51)\; font-family: sans-serif\, Arial\, Verdana\, &quot\;Trebuchet MS&quot\;\; font-size: 13px\; background-color: rgb(255\, 255\, 255)\;">. Whether you are young or young at heart join us for some cocktails\, appetizers and networking fun!</span>
LOCATION:Duffy's Sports Grill 3005 University Pkwy\, Sarasota\, FL 34243
UID:e.9232.1792
SEQUENCE:3
DTSTAMP:20260423T045309Z
URL:https://business.ms-bia.org/events/details/young-builders-network-mixer-february-2018-1792
END:VEVENT

END:VCALENDAR
