BEGIN:VCALENDAR
VERSION:2.0
PRODID:-//ChamberMaster//Event Calendar 2.0//EN
METHOD:PUBLISH
X-PUBLISHED-TTL:P3D
REFRESH-INTERVAL:P3D
CALSCALE:GREGORIAN
BEGIN:VEVENT
DTSTART:20160818T213000Z
DTEND:20160819T003000Z
X-MICROSOFT-CDO-ALLDAYEVENT:FALSE
SUMMARY:Young Builders Network Mixer August 2016
DESCRIPTION:Grab a co-worker or friend and come out to mix and mingle with the Young Builders Network.. Whether you are young or young at heart join us for some cocktails\, appetizers and networking fun!
X-ALT-DESC;FMTTYPE=text/html:Grab a co-worker or friend and come out to mix and mingle with the Young Builders Network.. Whether you are young or young at heart join us for some cocktails\, appetizers and networking fun!<span style="color:#000000\;"><span style="font-size:14px\;"><span style="font-family:arial\;"><span style="font-weight:bold\;language:en-US\;"> </span></span></span></span>
LOCATION:Gecko's Grill & Pub - Fruitville 351 N Cattlemen Rd Sarasota
UID:e.9232.1244
SEQUENCE:3
DTSTAMP:20260422T000001Z
URL:https://business.ms-bia.org/events/details/young-builders-network-mixer-august-2016-08-18-2016-1244
END:VEVENT

END:VCALENDAR
