BEGIN:VCALENDAR
VERSION:2.0
PRODID:-//ChamberMaster//Event Calendar 2.0//EN
METHOD:PUBLISH
X-PUBLISHED-TTL:P3D
REFRESH-INTERVAL:P3D
CALSCALE:GREGORIAN
BEGIN:VEVENT
DTSTART:20151020T213000Z
DTEND:20151021T003000Z
X-MICROSOFT-CDO-ALLDAYEVENT:FALSE
SUMMARY:Young Builders Network Mixer
DESCRIPTION:Grab a co-worker or friend and come out to mix and mingle with the Young Builders Network.. Whether you are young or young at heart join us for some cocktails\, appetizers and networking fun!\n\n\n\nWill will also be having a CORNHOLE Tournament for the October Meeting!
X-ALT-DESC;FMTTYPE=text/html:<span style="font-size:14px\;"><span style="font-family:arial\;">Grab a co-worker or friend and come out to mix and mingle with the Young Builders Network.. Whether you are young or young at heart join us for some cocktails\, appetizers and networking fun!<br />\n<br />\nWill will also be having a&nbsp\;CORNHOLE&nbsp\;Tournament for the October Meeting!&nbsp\;<span style="color:#000000\;"><span style="font-weight:bold\;language:en-US\;">&nbsp\;</span></span></span></span>
LOCATION:Linksters 8201 Cooper Creek Blvd University Park\, FL 34201
UID:e.9232.895
SEQUENCE:3
DTSTAMP:20260421T143351Z
URL:https://business.ms-bia.org/events/details/young-builders-network-mixer-10-20-2015-895
END:VEVENT

END:VCALENDAR
