BEGIN:VCALENDAR
VERSION:2.0
PRODID:-//ChamberMaster//Event Calendar 2.0//EN
METHOD:PUBLISH
X-PUBLISHED-TTL:P3D
REFRESH-INTERVAL:P3D
CALSCALE:GREGORIAN
BEGIN:VEVENT
DTSTART:20180719T213000Z
DTEND:20180720T000000Z
X-MICROSOFT-CDO-ALLDAYEVENT:FALSE
SUMMARY:YBP- Brats\, Beers and Backpacks
DESCRIPTION:The Young Building Professionals will be supporting the Boys & Girls Club of Sarasota by helping stuff backpacks full of school supplies! Please join us at the MSBIA Office for....Beer\, Brats & Backpacks!\n\n\n\nCost to attend is $10 or bring school supplies. With your help we can make this upcoming year more successful for many appreciative students!\n\n\n\nItems Requested: Composition Books\, Folders\, Pens/Pencils/Markers\, Glue Sticks\, Tissues\, Hand Sanitizer\n\n\n\nIf you are unable to attend this event but still want to help out\, we are accepting sponsorships contact jpercel@taylormorrison.com or  you can drop off supplies or gift cards at the BIA Office.
X-ALT-DESC;FMTTYPE=text/html:The Young Building Professionals will be supporting the Boys &amp\; Girls Club of Sarasota by helping stuff backpacks full of school supplies! Please join us at the MSBIA Office for....<strong>Beer\, Brats &amp\; Backpacks!</strong><br />\n<br />\nCost to attend is $10 or bring school supplies. With your help we can make this upcoming year more successful for many appreciative students!<br />\n<br />\nItems Requested: Composition Books\, Folders\, Pens/Pencils/Markers\, Glue Sticks\, Tissues\, Hand Sanitizer<br />\n<br />\nIf you are unable to attend this event but still want to help out\, we are accepting sponsorships contact jpercel@taylormorrison.com or&nbsp\;&nbsp\;you can drop off supplies or gift cards at the BIA Office.
LOCATION:6650 Professional Parkway W\, Ste 102\, Sarasota FL 34240
UID:e.9232.1823
SEQUENCE:3
DTSTAMP:20260423T134527Z
URL:https://business.ms-bia.org/events/details/ybp-brats-beers-and-backpacks-1823
END:VEVENT

END:VCALENDAR
