BEGIN:VCALENDAR
VERSION:2.0
PRODID:-//ChamberMaster//Event Calendar 2.0//EN
METHOD:PUBLISH
X-PUBLISHED-TTL:P3D
REFRESH-INTERVAL:P3D
CALSCALE:GREGORIAN
BEGIN:VEVENT
DTSTART:20150910T210000Z
DTEND:20150910T230000Z
X-MICROSOFT-CDO-ALLDAYEVENT:FALSE
SUMMARY:YBN Mega Joint Networking Social
DESCRIPTION:Young professionals from Manatee and Sarasota Counties come together to make connections\, enjoy some nosh and cocktails. Be sure to bring plenty of business cards and bring a friend!
X-ALT-DESC;FMTTYPE=text/html:Young professionals from Manatee and Sarasota Counties come together to make connections\, enjoy some nosh and cocktails. Be sure to bring plenty of business cards and bring a friend!
LOCATION:World of Beer 497 Cortez Road West Bradenton\, FL 34207
UID:e.9232.906
SEQUENCE:3
DTSTAMP:20260421T160735Z
URL:https://business.ms-bia.org/events/details/ybn-mega-joint-networking-social-09-10-2015-906
END:VEVENT

END:VCALENDAR
