BEGIN:VCALENDAR
VERSION:2.0
PRODID:-//ChamberMaster//Event Calendar 2.0//EN
METHOD:PUBLISH
X-PUBLISHED-TTL:P3D
REFRESH-INTERVAL:P3D
CALSCALE:GREGORIAN
BEGIN:VEVENT
DTSTART:20250109T220000Z
DTEND:20250110T030000Z
X-MICROSOFT-CDO-ALLDAYEVENT:FALSE
SUMMARY:Yacht Rock: 2025 Installation of Officers
DESCRIPTION:JOIN US FOR THE 2025 INSTALLATION OF OFFICERS: YACHT ROCK!\n\nTicket quantities are limited\, be sure to secure yours early\n\nJoin us as we install Debbie Urban as our new President and say goodbye to our current President\, John Carlson at the Installation of Officers. Happy Hour\, Dinner\, Awards\, and Celebration!
X-ALT-DESC;FMTTYPE=text/html:<p style="text-align: center\;"><span style="font-family:courier new\;"><span style="color:#ff0099\;"><strong><span style="font-size:28px\;">JOIN US FOR THE 2025&nbsp\;INSTALLATION OF OFFICERS: YACHT ROCK!</span></strong></span><br />\n<span style="color:#FFFFFF\;"><span style="font-size: 16px\; white-space-collapse: preserve\;"><span style="background-color:#00ff99\;">Ticket quantities are limited\, be sure to secure yours early</span></span></span></span></p>\n\n<div style="text-align: center\;"><span style="font-family:courier new\;"><span style="color:#3399ff\;"><strong><span background-color:="" font-size:="" segoe="" ui="">Join us as we install Debbie Urban&nbsp\;as our new President and say goodbye to our current President\, John Carlson&nbsp\;at the Installation of Officers. Happy Hour\, Dinner\, Awards\, and Celebration!</span></strong></span></span></div>\n
LOCATION:Sarasota Yacht Club 1100 John Ringling Blvd Sarasota\, FL 34236
UID:e.9232.4321
SEQUENCE:3
DTSTAMP:20260421T132920Z
URL:https://business.ms-bia.org/events/details/yacht-rock-2025-installation-of-officers-4321
END:VEVENT

END:VCALENDAR
