BEGIN:VCALENDAR
VERSION:2.0
PRODID:-//ChamberMaster//Event Calendar 2.0//EN
METHOD:PUBLISH
X-PUBLISHED-TTL:P3D
REFRESH-INTERVAL:P3D
CALSCALE:GREGORIAN
BEGIN:VEVENT
DTSTART:20170831T220000Z
DTEND:20170901T000000Z
X-MICROSOFT-CDO-ALLDAYEVENT:FALSE
SUMMARY:X-treme Networking-Meet the Builder
DESCRIPTION:The Manatee-Sarasota Building Industry Association is currently preparing for one of our most exciting events! Back by popular demand is X-treme Networking-Meet the Builder.\n\n\n\nThis is the perfect opportunity to sit down with local builders and promote your business one on one. Similar to the concept of speed dating\, each associate will get to meet 7 builders for 5 minutes each. You will have the opportunity to pick from the builders that are participating.\n\n \nClick Here for the sign up sheet with the participating builders.
X-ALT-DESC;FMTTYPE=text/html:<span style="language:en-US\;"><span style="font-family:arial\;"><span style="font-size:12.0pt\;">The Manatee-Sarasota Building Industry Association is currently preparing for one of our most </span></span></span><span style="language:en-US\;"><span style="font-family:arial\;"><span style="font-size:12.0pt\;">exciting events! Back by popular demand is X-treme Networking-Meet the Builder.</span></span></span><br />\n<br />\n<span style="language:en-US\;"><span style="font-family:arial\;"><span style="font-size:12.0pt\;">This is the perfect opportunity to sit down with local builders and promote your business one on one. Similar to the concept of speed dating\, each associate will get to meet 7 builders for 5 minutes each. You will have the opportunity to pick from the builders that are participating.</span></span></span><br />\n&nbsp\;\n<h1><strong><a href="https://chambermaster.blob.core.windows.net/userfiles/UserFiles/chambers/9232/File/signupnow.pdf">Click Here for the sign up sheet with the participating builders.</a></strong></h1>\n
LOCATION:Sarasota
UID:e.9232.1772
SEQUENCE:3
DTSTAMP:20260422T182447Z
URL:https://business.ms-bia.org/events/details/x-treme-networking-meet-the-builder-1772
END:VEVENT

END:VCALENDAR
