BEGIN:VCALENDAR
VERSION:2.0
PRODID:-//ChamberMaster//Event Calendar 2.0//EN
METHOD:PUBLISH
X-PUBLISHED-TTL:P3D
REFRESH-INTERVAL:P3D
CALSCALE:GREGORIAN
BEGIN:VEVENT
DTSTART:20180614T213000Z
DTEND:20180615T000000Z
X-MICROSOFT-CDO-ALLDAYEVENT:FALSE
SUMMARY:X-treme Networking
DESCRIPTION:X-treme Networking-Meet the Builder is one of our most popular events.\n\n\n\nThis is the perfect opportunity to sit down with local builders and promote your business one on one. Similar to the concept of speed dating\, each associate will get to meet 7 builders for 5 minutes each. You will have the opportunity to pick from the builders that are participating.
X-ALT-DESC;FMTTYPE=text/html:<span style="color: rgb(51\, 51\, 51)\; font-family: sans-serif\, Arial\, Verdana\, &quot\;Trebuchet MS&quot\;\; font-size: 13px\;"><span style="font-family: arial\;"><span style="font-size: 12pt\;">&nbsp\;X-treme&nbsp\;Networking-Meet the Builder is one of our most popular events.</span></span></span><br style="color: rgb(51\, 51\, 51)\; font-family: sans-serif\, Arial\, Verdana\, &quot\;Trebuchet MS&quot\;\; font-size: 13px\;" />\n<br style="color: rgb(51\, 51\, 51)\; font-family: sans-serif\, Arial\, Verdana\, &quot\;Trebuchet MS&quot\;\; font-size: 13px\;" />\n<span style="color: rgb(51\, 51\, 51)\; font-family: sans-serif\, Arial\, Verdana\, &quot\;Trebuchet MS&quot\;\; font-size: 13px\;"><span style="font-family: arial\;"><span style="font-size: 12pt\;">This is the perfect opportunity to sit down with local builders and promote your business one on one. Similar to the concept of speed dating\, each associate will get to meet 7 builders for 5 minutes each. You will have the opportunity to pick from the builders that are participating.</span></span></span>
LOCATION:Sarasota
UID:e.9232.1818
SEQUENCE:3
DTSTAMP:20260423T114703Z
URL:https://business.ms-bia.org/events/details/x-treme-networking-1818
END:VEVENT

END:VCALENDAR
