BEGIN:VCALENDAR
VERSION:2.0
PRODID:-//ChamberMaster//Event Calendar 2.0//EN
METHOD:PUBLISH
X-PUBLISHED-TTL:P3D
REFRESH-INTERVAL:P3D
CALSCALE:GREGORIAN
BEGIN:VEVENT
DTSTART:20180321T123000Z
DTEND:20180321T140000Z
X-MICROSOFT-CDO-ALLDAYEVENT:FALSE
SUMMARY:Wire Fraud Prevention
DESCRIPTION:Learn about all there is to now about Wire Fraud and how to prevent Wire Fraud from happening to you!
X-ALT-DESC;FMTTYPE=text/html:Learn about all there is to now about Wire Fraud and how to prevent Wire Fraud from happening to you!
LOCATION:6650 Professional Pkwy W Suite 102 Sarasota\, FL 34240
UID:e.9232.1869
SEQUENCE:3
DTSTAMP:20260423T081942Z
URL:https://business.ms-bia.org/events/details/wire-fraud-prevention-1869
END:VEVENT

END:VCALENDAR
