BEGIN:VCALENDAR
VERSION:2.0
PRODID:-//ChamberMaster//Event Calendar 2.0//EN
METHOD:PUBLISH
X-PUBLISHED-TTL:P3D
REFRESH-INTERVAL:P3D
CALSCALE:GREGORIAN
BEGIN:VEVENT
DTSTART:20150520T000000Z
DTEND:20150520T033000Z
X-MICROSOFT-CDO-ALLDAYEVENT:FALSE
SUMMARY:WINDOW AND DOOR INSTALLATION -
DESCRIPTION:Join us for 3 FREE CEU hours of training!\n\nCourses will be tailored to residential contractors\, general contractors\, municipal and county building officials\, dealers\, window and door installers\, architects and engineers. Employees of licensed contractors may attend with the following documentation:   Employees of a licensed contractor must provide a letter from their employer stating that the trainee is employed and the letter must include the employer's licensure category and license number.   Independent contractors taking the course must provide a copy of a certificate of workers' compensation insurance or a copy of a certificate of exemption from workers' compensation insurance.   Course Number: CILB #0611233/FBC #676.0 (2 Hours) Florida Building Code\, 5th Edition (2014) Fenestration Mitigation\, Advanced Class   Course Number: CILB #0010931 (1 hour) Interpreting Labels
X-ALT-DESC;FMTTYPE=text/html:<span style="font-family:arial\;">Join us for 3 FREE CEU hours of training!<br />\nCourses will be tailored to residential contractors\, general contractors\, municipal and county building officials\, dealers\, window and door installers\, architects and engineers. Employees of licensed contractors may attend with the following documentation: &#61623\; Employees of a licensed contractor must provide a letter from their employer stating that the trainee is employed and the letter must include the employer&#39\;s licensure category and license number. &#61623\; Independent contractors taking the course must provide a copy of a certificate of workers&rsquo\; compensation insurance or a copy of a certificate of exemption from workers&#39\; compensation insurance. &#61623\; Course Number: CILB #0611233/FBC #676.0 (2 Hours) Florida Building Code\, 5th Edition (2014) Fenestration Mitigation\, Advanced Class &#61623\; Course Number: CILB #0010931 (1 hour) Interpreting Labels</span>
LOCATION:Kimal Lumber & Hardware 7010 E. Fruitville Road Sarasota\, FL 32824
UID:e.9232.614
SEQUENCE:3
DTSTAMP:20260421T221114Z
URL:https://business.ms-bia.org/events/details/window-and-door-installation-05-19-2015-614
END:VEVENT

END:VCALENDAR
