BEGIN:VCALENDAR
VERSION:2.0
PRODID:-//ChamberMaster//Event Calendar 2.0//EN
METHOD:PUBLISH
X-PUBLISHED-TTL:P3D
REFRESH-INTERVAL:P3D
CALSCALE:GREGORIAN
BEGIN:VEVENT
DTSTART:20190116T213000Z
DTEND:20190116T223000Z
X-MICROSOFT-CDO-ALLDAYEVENT:FALSE
SUMMARY:Veteran's Council Meeting
DESCRIPTION:Join us for our Veteran's Council Planning Meeting. We are in the beginning stages of this council and asking all Veterans to come out to help get this started!
X-ALT-DESC;FMTTYPE=text/html:Join us for our Veteran&#39\;s Council Planning Meeting. We are in the beginning stages of this council and asking all Veterans to come out to help get this started!
LOCATION:MSBIA Office 6650 Professional Pkwy W Suite 102 Sarasota\, FL 34240
UID:e.9232.2102
SEQUENCE:3
DTSTAMP:20260424T000340Z
URL:https://business.ms-bia.org/events/details/veteran-s-council-meeting-2102
END:VEVENT

END:VCALENDAR
