BEGIN:VCALENDAR
VERSION:2.0
PRODID:-//ChamberMaster//Event Calendar 2.0//EN
METHOD:PUBLISH
X-PUBLISHED-TTL:P3D
REFRESH-INTERVAL:P3D
CALSCALE:GREGORIAN
BEGIN:VEVENT
DTSTART:20150315T180000Z
DTEND:20150315T230000Z
X-MICROSOFT-CDO-ALLDAYEVENT:FALSE
SUMMARY:Tour of Kitchens
DESCRIPTION:Taste culinary delights prepared by area executive chefs in the kitchens of luxury model homes in the exclusive Manatee County neighborhood of The Concession.\n\n\n\nMeet Executive Chefs from local fine dining restaurants and enjoy desserts\n\nprepared by Dana Johnson of Sugar Cubed.\n\nFor more information and early registration visit: http://www.mtifoundation.org
X-ALT-DESC;FMTTYPE=text/html:Taste culinary delights prepared by area executive chefs in the kitchens of luxury model&nbsp\;homes in the exclusive Manatee County neighborhood of The Concession.<br />\n<br />\nMeet Executive Chefs from local fine dining restaurants and enjoy desserts<br />\nprepared by Dana Johnson of Sugar Cubed.<br />\nFor more information and early registration visit: <a href="http://www.mtifoundation.org/tour-of-kitchens.html">http://www.mtifoundation.org</a>
LOCATION:Model homes throughout The Concession
UID:e.9232.595
SEQUENCE:3
DTSTAMP:20260422T015943Z
URL:https://business.ms-bia.org/events/details/tour-of-kitchens-03-15-2015-595
END:VEVENT

END:VCALENDAR
