BEGIN:VCALENDAR
VERSION:2.0
PRODID:-//ChamberMaster//Event Calendar 2.0//EN
METHOD:PUBLISH
X-PUBLISHED-TTL:P3D
REFRESH-INTERVAL:P3D
CALSCALE:GREGORIAN
BEGIN:VEVENT
DTSTART:20160425T130000Z
DTEND:20160425T160000Z
X-MICROSOFT-CDO-ALLDAYEVENT:FALSE
SUMMARY:The Return of the Sales Warrior
DESCRIPTION:Featuring: Meredith Oliver\, Leah Turner\, and John Palumbo\n\n\n\nThe Return of the Sales Warrior is a totally unprecedented and revolutionary Sales Rally designed to turn sales professionals into Sales Warriors.  Armed with strategy\, courage\, and a new vigor\, attendees will reenter the field ready to accept challenges\, fight for solutions\, and persevere until they succeed. High-energy\, fast-paced\, and extremely content-rich\, this three hour event has the energy of a concert\, the motivation of a retreat\, and the skills and strategies of a two-day conference.\n\n\n\nThe mission of this rally is to empower attendees with the most advanced and cutting-edge training and leave a lasting impact that equates to direct performance improvement.\n\n\n\nIdeal for all sales professionals\, The Return of the Sales Warrior will empower attendees with:\n\n	         An arsenal of powerful selling skills to take them to the next level.\n	         The ability to dominate and position themselves as leaders in their industry.\n	         A vivid vision of a bigger future along with a blueprint to achieve their full potential.\n\n\n\nThe Return of the Sales Warrior will focus on profit-boosting strategies\, including turning prospects into customers\, creating and presenting irresistible offers\, and closing the sale. Get ready for a no-nonsense\, hard-hitting rally that will take you to great new heights.\n\n\n\nBrought to you by: Academy Mortgage\, SmartTouch Interactive\, and Melinda Brody and Company
X-ALT-DESC;FMTTYPE=text/html:Featuring: Meredith Oliver\, Leah Turner\, and John Palumbo<br />\n<br />\nThe Return of the Sales Warrior is a totally unprecedented and revolutionary Sales Rally designed to turn sales professionals into Sales Warriors.&nbsp\; Armed with strategy\, courage\, and a new vigor\, attendees will reenter the field ready to accept challenges\, fight for solutions\, and persevere until they succeed. High-energy\, fast-paced\, and extremely content-rich\, this three hour event has the energy of a concert\, the motivation of a retreat\, and the skills and strategies of a two-day conference.<br />\n<br />\nThe mission of this rally is to empower attendees with the most advanced and cutting-edge training and leave a lasting impact that equates to direct performance improvement.<br />\n<br />\nIdeal for all sales professionals\, The Return of the Sales Warrior will empower attendees with:\n<ul>\n	<li>&nbsp\;&nbsp\;&nbsp\;&nbsp\;&nbsp\;&nbsp\;&nbsp\;&nbsp\; An arsenal of powerful selling skills to take them to the next level.</li>\n	<li>&nbsp\;&nbsp\;&nbsp\;&nbsp\;&nbsp\;&nbsp\;&nbsp\;&nbsp\; The ability to dominate and position themselves as leaders in their industry.</li>\n	<li>&nbsp\;&nbsp\;&nbsp\;&nbsp\;&nbsp\;&nbsp\;&nbsp\;&nbsp\; A vivid vision of a bigger future along with a blueprint to achieve their full potential.</li>\n</ul>\n<br />\nThe Return of the Sales Warrior will focus on profit-boosting strategies\, including turning prospects into customers\, creating and presenting irresistible offers\, and closing the sale. Get ready for a no-nonsense\, hard-hitting rally that will take you to great new heights.<br />\n<br />\nBrought to you by: Academy Mortgage\, SmartTouch Interactive\, and Melinda Brody and Company
LOCATION:Polo Grill & Bar 10670 Boardwalk Loop Lakewood Ranch\, FL 34202
UID:e.9232.1390
SEQUENCE:3
DTSTAMP:20260421T151037Z
URL:https://business.ms-bia.org/events/details/the-return-of-the-sales-warrior-04-25-2016-1390
END:VEVENT

END:VCALENDAR
