BEGIN:VCALENDAR
VERSION:2.0
PRODID:-//ChamberMaster//Event Calendar 2.0//EN
METHOD:PUBLISH
X-PUBLISHED-TTL:P3D
REFRESH-INTERVAL:P3D
CALSCALE:GREGORIAN
BEGIN:VEVENT
DTSTART:20170519T160000Z
DTEND:20170519T210000Z
X-MICROSOFT-CDO-ALLDAYEVENT:FALSE
SUMMARY:Spring Fling GOLF Tournament
DESCRIPTION:GOLF IS SOLD OUT\, BUT WE HAVE SOME GREAT OPPORTUNITIES FOR SPONSORSHIPS! NEVER TO LATE TO GET OUT ON THE GREENS AND SPEND THE DAY WITH 140 OF YOUR FELLOW MEMBERS! \n\n\n\nBe a sponsor and show your support for MSBIA!\n\n$1000 Silver Sponsor\n\n$400 Banquet Sponsor\n\n$300 Staffed Tee Sponsor\n\n$200 Builder Tee Sponsor\n\n$300 + supply the Prize Specialty Contest Sponsor\n\n$100 Tee Sponsor \n\nClick here for PDF of sponsorship level details.
X-ALT-DESC;FMTTYPE=text/html:<span style="color:#FF0000\;"><em><strong>GOLF IS SOLD OUT\, BUT WE HAVE SOME GREAT OPPORTUNITIES FOR SPONSORSHIPS! NEVER TO LATE TO GET OUT ON THE GREENS AND SPEND THE DAY WITH 140 OF YOUR FELLOW MEMBERS!&nbsp\;</strong></em></span><br />\n<br />\nBe a sponsor and show your support for MSBIA!<br />\n$1000 Silver Sponsor<br />\n$400 Banquet Sponsor<br />\n$300 Staffed Tee Sponsor<br />\n$200 Builder Tee Sponsor<br />\n$300 + supply the Prize Specialty Contest Sponsor<br />\n$100 Tee Sponsor&nbsp\;<br />\n<a href="https://chambermaster.blob.core.windows.net/userfiles/UserFiles/chambers/9232/File/2017MSBIAMarketingPackages.pdf">Click here for PDF of sponsorship level details.</a>
LOCATION:Stoneybrook at Heritage Harbour 8000 Stone Harbour Loop Bradenton\, FL 34212
UID:e.9232.1589
SEQUENCE:3
DTSTAMP:20260422T135031Z
URL:https://business.ms-bia.org/events/details/spring-fling-golf-tournament-1589
END:VEVENT

END:VCALENDAR
