BEGIN:VCALENDAR
VERSION:2.0
PRODID:-//ChamberMaster//Event Calendar 2.0//EN
METHOD:PUBLISH
X-PUBLISHED-TTL:P3D
REFRESH-INTERVAL:P3D
CALSCALE:GREGORIAN
BEGIN:VEVENT
DTSTART:20180503T213000Z
DTEND:20180504T000000Z
X-MICROSOFT-CDO-ALLDAYEVENT:FALSE
SUMMARY:Spring Cleaning / Membership Drive Infield Party
DESCRIPTION:Join us as we make our BIG Membership Donation to the Safe Childrens Coalition and kick off the 2018 Spring Membership Drive!\n\nThe following Items are needed:\n\n    Women's bras\n\n    Beach towels\n\n    Toddler boys & boys clothing (2t-5/5t\, tops and bottoms) as well as boys sizes 14-20 (tops and bottoms)\n\n    Toddler girls & girls clothing (3t-6\, tops and bottoms)\n\n    Bedding sets for children and teens\n\n    Suitcases\n\n    Boys Shoes (all sizes)\n\n    Boys clothing & pajamas\, 2T and up\n\n    Underwear & socks (boys & girls)
X-ALT-DESC;FMTTYPE=text/html:<span style="font-size:14px\;"><span style="font-family:arial\;">Join us as we make our BIG Membership Donation to the Safe Childrens Coalition and kick off the 2018 Spring Membership Drive!<br />\nThe following Items are needed:</span></span>\n\n<div style="color: rgb(33\, 33\, 33)\; font-family: wf_segoe-ui_normal\, &quot\;Segoe UI&quot\;\, &quot\;Segoe WP&quot\;\, Tahoma\, Arial\, sans-serif\, serif\, EmojiFont\; font-size: 15px\; text-indent: -18pt\; margin: 0px 0px 0px 36pt\;"><span style="font-size:14px\;"><span style="font-family:arial\;">&deg\;&nbsp\;&nbsp\;&nbsp\;Women&rsquo\;s bras</span></span></div>\n\n<div style="color: rgb(33\, 33\, 33)\; font-family: wf_segoe-ui_normal\, &quot\;Segoe UI&quot\;\, &quot\;Segoe WP&quot\;\, Tahoma\, Arial\, sans-serif\, serif\, EmojiFont\; font-size: 15px\; text-indent: -18pt\; margin: 0px 0px 0px 36pt\;"><span style="font-size:14px\;"><span style="font-family:arial\;">&deg\;&nbsp\;&nbsp\;&nbsp\;Beach towels</span></span></div>\n\n<div style="color: rgb(33\, 33\, 33)\; font-family: wf_segoe-ui_normal\, &quot\;Segoe UI&quot\;\, &quot\;Segoe WP&quot\;\, Tahoma\, Arial\, sans-serif\, serif\, EmojiFont\; font-size: 15px\; text-indent: -18pt\; margin: 0px 0px 0px 36pt\;"><span style="font-size:14px\;"><span style="font-family:arial\;">&deg\;&nbsp\;&nbsp\;&nbsp\;Toddler boys &amp\; boys clothing (2t-5/5t\, tops and bottoms) as well as boys sizes 14-20 (tops and bottoms)</span></span></div>\n\n<div style="color: rgb(33\, 33\, 33)\; font-family: wf_segoe-ui_normal\, &quot\;Segoe UI&quot\;\, &quot\;Segoe WP&quot\;\, Tahoma\, Arial\, sans-serif\, serif\, EmojiFont\; font-size: 15px\; text-indent: -18pt\; margin: 0px 0px 0px 36pt\;"><span style="font-size:14px\;"><span style="font-family:arial\;">&deg\;&nbsp\;&nbsp\;&nbsp\;Toddler girls &amp\; girls clothing (3t-6\, tops and bottoms)</span></span></div>\n\n<div style="color: rgb(33\, 33\, 33)\; font-family: wf_segoe-ui_normal\, &quot\;Segoe UI&quot\;\, &quot\;Segoe WP&quot\;\, Tahoma\, Arial\, sans-serif\, serif\, EmojiFont\; font-size: 15px\; text-indent: -18pt\; margin: 0px 0px 0px 36pt\;"><span style="font-size:14px\;"><span style="font-family:arial\;">&deg\;&nbsp\;&nbsp\;&nbsp\;Bedding sets for children and teens</span></span></div>\n\n<div style="color: rgb(33\, 33\, 33)\; font-family: wf_segoe-ui_normal\, &quot\;Segoe UI&quot\;\, &quot\;Segoe WP&quot\;\, Tahoma\, Arial\, sans-serif\, serif\, EmojiFont\; font-size: 15px\; text-indent: -18pt\; margin: 0px 0px 0px 36pt\;"><span style="font-size:14px\;"><span style="font-family:arial\;">&deg\;&nbsp\;&nbsp\;&nbsp\;Suitcases</span></span></div>\n\n<div style="color: rgb(33\, 33\, 33)\; font-family: wf_segoe-ui_normal\, &quot\;Segoe UI&quot\;\, &quot\;Segoe WP&quot\;\, Tahoma\, Arial\, sans-serif\, serif\, EmojiFont\; font-size: 15px\; text-indent: -18pt\; margin: 0px 0px 0px 36pt\;"><span style="font-size:14px\;"><span style="font-family:arial\;">&deg\;&nbsp\;&nbsp\;&nbsp\;Boys Shoes (all sizes)</span></span></div>\n\n<div style="color: rgb(33\, 33\, 33)\; font-family: wf_segoe-ui_normal\, &quot\;Segoe UI&quot\;\, &quot\;Segoe WP&quot\;\, Tahoma\, Arial\, sans-serif\, serif\, EmojiFont\; font-size: 15px\; text-indent: -18pt\; margin: 0px 0px 0px 36pt\;"><span style="font-size:14px\;"><span style="font-family:arial\;">&deg\;&nbsp\;&nbsp\;&nbsp\;Boys clothing &amp\; pajamas\, 2T and up</span></span></div>\n\n<div style="color: rgb(33\, 33\, 33)\; font-family: wf_segoe-ui_normal\, &quot\;Segoe UI&quot\;\, &quot\;Segoe WP&quot\;\, Tahoma\, Arial\, sans-serif\, serif\, EmojiFont\; font-size: 15px\; text-indent: -18pt\; margin: 0px 0px 0px 36pt\;"><span style="font-size:14px\;"><span style="font-family:arial\;">&deg\;&nbsp\;&nbsp\;&nbsp\;Underwear &amp\; socks (boys &amp\; girls)</span></span></div>\n
LOCATION:MSBIA Office 6650 Professional Parkway West\, Ste 102 Sarasota\, FL 34240
UID:e.9232.1877
SEQUENCE:3
DTSTAMP:20260423T101219Z
URL:https://business.ms-bia.org/events/details/spring-cleaning-membership-drive-infield-party-1877
END:VEVENT

END:VCALENDAR
