BEGIN:VCALENDAR
VERSION:2.0
PRODID:-//ChamberMaster//Event Calendar 2.0//EN
METHOD:PUBLISH
X-PUBLISHED-TTL:P3D
REFRESH-INTERVAL:P3D
CALSCALE:GREGORIAN
BEGIN:VEVENT
DTSTART:20161028T160000Z
DTEND:20161028T200000Z
X-MICROSOFT-CDO-ALLDAYEVENT:FALSE
SUMMARY:Sporting Clays Event
DESCRIPTION:Mark you calendars for the 2016 Sporting Clays event!
X-ALT-DESC;FMTTYPE=text/html:Mark you calendars for the 2016 Sporting Clays event!&nbsp\;
LOCATION:Ancient Oak Gun Club 16800 SR 64 East Lakewood Ranch\, FL 34212
UID:e.9232.1530
SEQUENCE:3
DTSTAMP:20260422T014554Z
URL:https://business.ms-bia.org/events/details/sporting-clays-event-10-28-2016-1530
END:VEVENT

END:VCALENDAR
