BEGIN:VCALENDAR
VERSION:2.0
PRODID:-//ChamberMaster//Event Calendar 2.0//EN
METHOD:PUBLISH
X-PUBLISHED-TTL:P3D
REFRESH-INTERVAL:P3D
CALSCALE:GREGORIAN
BEGIN:VEVENT
DTSTART;VALUE=DATE:20180815
DTEND;VALUE=DATE:20180819
TRANSP:TRANSPARENT
X-MICROSOFT-CDO-ALLDAYEVENT:TRUE
SUMMARY:Southeastern Building Conference
DESCRIPTION:The Southeast Building Conference represents a powerful business-building opportunity for companies that want to reach the huge home building market in the South.
X-ALT-DESC;FMTTYPE=text/html:<span style="color: rgb(51\, 51\, 51)\; font-family: sans-serif\, Arial\, Verdana\, &quot\;Trebuchet MS&quot\;\; font-size: 13px\; background-color: rgb(255\, 255\, 255)\;">The Southeast Building Conference represents a powerful business-building opportunity for companies that want to reach the huge home building market in the South.</span>
LOCATION:
UID:e.9232.1826
SEQUENCE:3
DTSTAMP:20260423T150959Z
URL:https://business.ms-bia.org/events/details/southeastern-building-conference-1826
END:VEVENT

END:VCALENDAR
