BEGIN:VCALENDAR
VERSION:2.0
PRODID:-//ChamberMaster//Event Calendar 2.0//EN
METHOD:PUBLISH
X-PUBLISHED-TTL:P3D
REFRESH-INTERVAL:P3D
CALSCALE:GREGORIAN
BEGIN:VEVENT
DTSTART:20260227T180000Z
DTEND:20260227T210000Z
X-MICROSOFT-CDO-ALLDAYEVENT:FALSE
SUMMARY:**SOLD OUT**PWB Tour of Homes
DESCRIPTION:You're Invited: Second Annual PWB Tour of Homes  \n\nJoin the Professional Women in Building (PWB) for the Second Annual PWB Tour of Homes\, a special day centered on connection\, inspiration\, and exceptional design.\n\nWe'll gather at Foxtail Coffee in Downtown Wellen Park and depart by trolley at 1:00 PM sharp for a private tour of select model homes featured in the Suncoast Builders Association Parade of Homes. Along the way\, experience innovative trends\, beautiful craftsmanship\, and meaningful conversation alongside women shaping the building industry.\n\nFollowing the tour\, guests are invited to join us for an optional happy hour to continue the conversation and reflect on the beautiful homes.\n\nSpace is limited to ensure a memorable experience we look forward to spending the day with you!
X-ALT-DESC;FMTTYPE=text/html:<p data-end="158" data-start="101"><span style="font-size:18px\;"><span style="font-family:times new roman\;">&#10024\; <strong data-end="154" data-start="103">You&rsquo\;re Invited: Second Annual PWB Tour of Homes</strong> &#10024\;</span></span></p>\n\n<p data-end="325" data-start="160"><span style="font-size:18px\;"><span style="font-family:times new roman\;">Join the Professional Women in Building (PWB) for the <strong data-end="249" data-start="214">Second Annual PWB Tour of Homes</strong>\, a special day centered on connection\, inspiration\, and exceptional design.</span></span></p>\n\n<p data-end="727" data-start="327"><span style="font-size:18px\;"><span style="font-family:times new roman\;">We&rsquo\;ll gather at <strong data-end="385" data-start="343">Foxtail Coffee in Downtown Wellen Park </strong><strong data-end="385" data-start="343">and</strong>&nbsp\;<strong data-end="455" data-start="417">depart by trolley at 1:00 PM sharp</strong> for a <strong data-end="500" data-start="462">private tour of select model homes</strong> featured in the <strong data-end="581" data-start="517">Suncoast Builders Association Parade of Homes.</strong>&nbsp\;Along the way\, experience innovative trends\, beautiful craftsmanship\, and meaningful conversation alongside women shaping the building industry.</span></span></p>\n\n<p data-end="851" data-start="729"><span style="font-family:times new roman\;"><span style="font-size:18px\;"><span class="a_GcMg font-feature-liga-off font-feature-clig-off font-feature-calt-off text-decoration-none text-strikethrough-none" style="color: rgba(0\,0\,0\,var(--O42jJQ\,1))\; caret-color: rgb(0\, 0\, 0)\; --Ys-XuQ: none\; font-style: italic\; font-kerning: none\;">Following the tour\, guests are invited to join us for an optional happy hour to continue the conversation and reflect on the beautiful homes.</span></span></span></p>\n\n<p data-end="948" data-start="853"><span style="font-size:18px\;"><span style="font-family:times new roman\;">Space is limited to ensure a memorable experience&mdash\;we look forward to spending the day with you!</span></span></p>\n
LOCATION:Pick up at Foxtail Coffee in Downtown Wellen Park 19795 Wellen Pk Blvd Bldg 4\, Suite A\, Venice\, FL 34293
UID:e.9232.5006
SEQUENCE:3
DTSTAMP:20260421T175245Z
URL:https://business.ms-bia.org/events/details/sold-out-pwb-tour-of-homes-5006
END:VEVENT

END:VCALENDAR
