BEGIN:VCALENDAR
VERSION:2.0
PRODID:-//ChamberMaster//Event Calendar 2.0//EN
METHOD:PUBLISH
X-PUBLISHED-TTL:P3D
REFRESH-INTERVAL:P3D
CALSCALE:GREGORIAN
BEGIN:VEVENT
DTSTART:20170803T170000Z
DTEND:20170803T203000Z
X-MICROSOFT-CDO-ALLDAYEVENT:FALSE
SUMMARY:SMC SAM Tram
DESCRIPTION:SMC SAM Tram\n\nVenice New Home Market Tour
X-ALT-DESC;FMTTYPE=text/html:SMC SAM Tram<br />\nVenice New Home Market Tour
LOCATION:Venice Area
UID:e.9232.1744
SEQUENCE:3
DTSTAMP:20260422T200025Z
URL:https://business.ms-bia.org/events/details/smc-sam-tram-1744
END:VEVENT

END:VCALENDAR
