BEGIN:VCALENDAR
VERSION:2.0
PRODID:-//ChamberMaster//Event Calendar 2.0//EN
METHOD:PUBLISH
X-PUBLISHED-TTL:P3D
REFRESH-INTERVAL:P3D
CALSCALE:GREGORIAN
BEGIN:VEVENT
DTSTART:20180131T220000Z
DTEND:20180201T000000Z
X-MICROSOFT-CDO-ALLDAYEVENT:FALSE
SUMMARY:SMC Happy Hour
DESCRIPTION:Join the Sales & Marketing Council as we kick off the year with a happy hour mixer!
X-ALT-DESC;FMTTYPE=text/html:Join the Sales &amp\; Marketing Council as we kick off the year with a happy hour mixer!
LOCATION:California Pizza Kitchen 192 N Cattlemen Rd Unit 1 Sarasota\, FL 34243
UID:e.9232.1846
SEQUENCE:3
DTSTAMP:20260423T044859Z
URL:https://business.ms-bia.org/events/details/smc-happy-hour-1846
END:VEVENT

END:VCALENDAR
