BEGIN:VCALENDAR
VERSION:2.0
PRODID:-//ChamberMaster//Event Calendar 2.0//EN
METHOD:PUBLISH
X-PUBLISHED-TTL:P3D
REFRESH-INTERVAL:P3D
CALSCALE:GREGORIAN
BEGIN:VEVENT
DTSTART:20150429T120000Z
DTEND:20150429T133000Z
X-MICROSOFT-CDO-ALLDAYEVENT:FALSE
SUMMARY:SMC Event - Market Snapshot
DESCRIPTION:MARKET SNAPSHOT\n\nJoin the MSBIA Sales & Marketing Council for a continuation of our \n\nconversations during Market Makers and Boom\, Bubble\, Bust.\n\nCome hear a snapshot of our current housing market and join in the discussion with our expert panel who will address major economic initiatives and housing trends that affect your business and bottom line.\n\n\n\nPanel Moderated by: Matt Walsh\, The Observer Group\n\nPanelists: Carlos Beruff\, Medallion Home\; Stafford Starcher\, Realtors Association of Sarasota Manatee\; Todd Mathes\, Benderson Development\; Scott Eckley\, D. R. Horton\n\n\n Who should attend: Builders\, Developers\, Lenders\, New Home Sales Professionals\, Realtors\, and Marketing Directors\nRSVP ASAP - Always a sell out crowd!\n\n\n\nCLICK HERE FOR SPONSORSHIPS
X-ALT-DESC;FMTTYPE=text/html:MARKET SNAPSHOT<br />\nJoin the MSBIA Sales &amp\; Marketing Council for a continuation of our&nbsp\;<br />\nconversations during Market Makers and Boom\, Bubble\, Bust.<br />\nCome hear a snapshot of our current housing market and join in the discussion with our expert panel who will address major economic initiatives and housing trends that affect your business and bottom line.<br />\n<br />\nPanel Moderated by:&nbsp\;Matt Walsh\,&nbsp\;The Observer Group<br />\nPanelists: Carlos Beruff\, Medallion Home\;&nbsp\;Stafford Starcher\,&nbsp\;Realtors Association of Sarasota Manatee\;&nbsp\;Todd Mathes\,&nbsp\;Benderson&nbsp\;Development\;&nbsp\;Scott Eckley\,&nbsp\;D. R. Horton\n<p class="MsoNormal" style="mso-pagination:none\;text-align:center\;text-align:\ncenter"><span lang="en-US" style="font-family:&quot\;QuickType II&quot\;\;mso-default-font-family:&quot\;QuickType II&quot\;\;\nmso-ascii-font-family:&quot\;QuickType II&quot\;\;mso-latin-font-family:&quot\;QuickType II&quot\;\;\nlanguage:en-US\;mso-ligatures:none"><o:p></o:p></span></p>\n\n<p class="MsoNormal"><span lang="en-US">&nbsp\;</span><span style="line-height: 1.6\;">Who should attend: Builders\, Developers\, Lenders\, New Home Sales Professionals\, Realtors\, and Marketing Directors</span></p>\nRSVP ASAP -&nbsp\;Always a sell out crowd!<br />\n<br />\n<a href="http://cloud.chambermaster.com/userfiles/UserFiles/chambers/9232/File/MarketSnapshotSponsorships.pdf"><span style="line-height: 20.7999992370605px\;">CLICK HERE FOR SPONSORSHIPS</span></a>\n\n<p class="MsoNormal" style="mso-pagination:none\;text-align:center\;text-align:\ncenter"><span lang="en-US"><o:p></o:p></span></p>\n
LOCATION:Lakewood Ranch County Club 7650 Legacy Blvd. Lakewood Ranch\, FL 34202
UID:e.9232.602
SEQUENCE:3
DTSTAMP:20260422T015028Z
URL:https://business.ms-bia.org/events/details/smc-event-market-snapshot-04-29-2015-602
END:VEVENT

END:VCALENDAR
