BEGIN:VCALENDAR
VERSION:2.0
PRODID:-//ChamberMaster//Event Calendar 2.0//EN
METHOD:PUBLISH
X-PUBLISHED-TTL:P3D
REFRESH-INTERVAL:P3D
CALSCALE:GREGORIAN
BEGIN:VEVENT
DTSTART:20180328T120000Z
DTEND:20180328T140000Z
X-MICROSOFT-CDO-ALLDAYEVENT:FALSE
SUMMARY:SMC Breakfast & New Construction Panel Discussion
DESCRIPTION:Realtors\, please join us for our SMC Breakfast. This FREE event will be a panelist discussion and will feature several leading new home sales professionals and managers as well as real-estate professionals discussing how to easily sell new homes.
X-ALT-DESC;FMTTYPE=text/html:<span style="color: rgb(63\, 63\, 63)\; font-family: Helvetica\, sans-serif\; font-size: 14px\; background-color: rgb(255\, 255\, 255)\;">Realtors\,&nbsp\;please join us for our SMC Breakfast. This FREE event will be a panelist discussion and will feature several leading new home sales professionals and managers as well as real-estate professionals discussing how to easily sell new homes.</span>
LOCATION:RASM Sarasota 2320 Cattlemen Rd\, Sarasota\, FL 34232
UID:e.9232.1808
SEQUENCE:3
DTSTAMP:20260423T063605Z
URL:https://business.ms-bia.org/events/details/smc-breakfast-new-construction-panel-discussion-1808
END:VEVENT

END:VCALENDAR
