BEGIN:VCALENDAR
VERSION:2.0
PRODID:-//ChamberMaster//Event Calendar 2.0//EN
METHOD:PUBLISH
X-PUBLISHED-TTL:P3D
REFRESH-INTERVAL:P3D
CALSCALE:GREGORIAN
BEGIN:VEVENT
DTSTART:20170127T123000Z
DTEND:20170127T143000Z
X-MICROSOFT-CDO-ALLDAYEVENT:FALSE
SUMMARY:SMC Breakfast Kick-off
DESCRIPTION:Sales & Marketing Council \n\nBreakfast Kick-Off\n\nSpeaker: Kimberly Mackey\, New Homes Solutions\n\nnewhomessolutions.com
X-ALT-DESC;FMTTYPE=text/html:<p>Sales &amp\; Marketing Council&nbsp\;<br />\nBreakfast Kick-Off<br />\nSpeaker: Kimberly Mackey\, New Homes Solutions<br />\nnewhomessolutions.com&nbsp\;</p>\n
LOCATION:Lakewood Ranch Golf & Country Club 7650 Legacy Blvd. Lakewood Ranch\, FL 34202
UID:e.9232.1735
SEQUENCE:3
DTSTAMP:20260422T083828Z
URL:https://business.ms-bia.org/events/details/smc-breakfast-kick-off-1735
END:VEVENT

END:VCALENDAR
