BEGIN:VCALENDAR
VERSION:2.0
PRODID:-//ChamberMaster//Event Calendar 2.0//EN
METHOD:PUBLISH
X-PUBLISHED-TTL:P3D
REFRESH-INTERVAL:P3D
CALSCALE:GREGORIAN
BEGIN:VEVENT
DTSTART:20160223T230000Z
DTEND:20160224T003000Z
X-MICROSOFT-CDO-ALLDAYEVENT:FALSE
SUMMARY:Seminar: How to Avoid the Most Common Remodeling Mistakes
DESCRIPTION:Looking to update your kitchen or bath but don?t know where to start? You?ve come to the right place. Whether you are in the preliminary stages or just looking to stay in the loop of the latest trends\, we look forward to meeting you. During this seminar you will learn: - What to expect during a remodel - How to find the right service providers - Staying within budget and on-schedule - Dealing with unexpected challenges And plenty more!
X-ALT-DESC;FMTTYPE=text/html:Looking to update your kitchen or bath but don?t know where to start? You?ve come to the right place. Whether you are in the preliminary stages or just looking to stay in the loop of the latest trends\, we look forward to meeting you. During this seminar you will learn: - What to expect during a remodel - How to find the right service providers - Staying within budget and on-schedule - Dealing with unexpected challenges And plenty more!
LOCATION:DreamMaker Bath & Kitchen Design Center 816 Manatee Ave E #102 Bradenton\, FL 34208
UID:e.9232.1250
SEQUENCE:3
DTSTAMP:20260421T132436Z
URL:https://business.ms-bia.org/events/details/seminar-how-to-avoid-the-most-common-remodeling-mistakes-02-23-2016-1250
END:VEVENT

END:VCALENDAR
