BEGIN:VCALENDAR
VERSION:2.0
PRODID:-//ChamberMaster//Event Calendar 2.0//EN
METHOD:PUBLISH
X-PUBLISHED-TTL:P3D
REFRESH-INTERVAL:P3D
CALSCALE:GREGORIAN
BEGIN:VEVENT
DTSTART;VALUE=DATE:20160727
DTEND;VALUE=DATE:20160730
TRANSP:TRANSPARENT
X-MICROSOFT-CDO-ALLDAYEVENT:TRUE
SUMMARY:SEBCville (Southeast Builders Conference)
DESCRIPTION:Celebrating 38 years in 2016\, The Southeast Building Conference (SEBC) is the largest building industry trade show in the southeast. As the premier trade event\, the SEBC includes outstanding educational programs featuring three days of hard-hitting seminars\, networking opportunities\, round table discussions and industry briefings.\n\n\n\nThe 2016 SEBC is a two-day (July 28-29) Expo Show and a four-day (July 27-30) networking\, professional development and continuing education conference for anyone and everyone working in the building industry.
X-ALT-DESC;FMTTYPE=text/html:<span style="font-family:arial\,sans-serif\;">Celebrating 38 years in 2016\, The Southeast Building Conference (SEBC) is the largest building industry trade show in the southeast. As the premier trade event\, the SEBC includes outstanding educational programs featuring three days of hard-hitting seminars\, networking opportunities\, round table discussions and industry briefings.</span><br />\n<br />\n<span style="font-family:arial\,sans-serif\;">The 2016 SEBC is a two-day (July 28-29) Expo Show and a four-day (July 27-30) networking\, professional development and continuing education conference for anyone and everyone working in the building industry.</span>
LOCATION:GAYLORD PALMS RESORT & CONVENTION CENTER 6000 WEST OSCEOLA PARKWAY KISSIMMEE\, FL 34746
UID:e.9232.1180
SEQUENCE:3
DTSTAMP:20260421T221337Z
URL:https://business.ms-bia.org/events/details/sebcville-southeast-builders-conference-07-27-2016-1180
END:VEVENT

END:VCALENDAR
