BEGIN:VCALENDAR
VERSION:2.0
PRODID:-//ChamberMaster//Event Calendar 2.0//EN
METHOD:PUBLISH
X-PUBLISHED-TTL:P3D
REFRESH-INTERVAL:P3D
CALSCALE:GREGORIAN
BEGIN:VEVENT
DTSTART:20250414T200000Z
DTEND:20250414T210000Z
X-MICROSOFT-CDO-ALLDAYEVENT:FALSE
SUMMARY:Sarasota Slam Committee Meeting
DESCRIPTION:The Sarasota Slam crew is thrilled to celebrate our 25th year\, and we're gearing up for an unforgettable event! This year's Sarasota Slam kicks off with a festive party on Friday\, July 11th\, followed by an action-packed schedule from July 17th-19th. This milestone promises to be our biggest and best yet! \n\n \n\nWant to get involved? Join us at our upcoming committee meeting to learn how you can help make this celebration one for the books. Don't miss your chance to be part of this incredible 25-year legacy!
X-ALT-DESC;FMTTYPE=text/html:<div style="text-align: center\;"><strong><span style="font-size:16px\;"><span style="font-family:times new roman\;">The Sarasota Slam crew is thrilled to celebrate our 25th year\, and we&rsquo\;re gearing up for an unforgettable event! This year&rsquo\;s Sarasota Slam kicks off with a festive party on Friday\, July 11th\, followed by an action-packed schedule from July 17th-19th. This milestone promises to be our biggest and best yet! </span></span></strong><br />\n&nbsp\;</div>\n\n<div style="text-align: center\;"><strong><span style="font-size:16px\;"><span style="font-family:times new roman\;">Want to get involved? Join us at our upcoming committee meeting to learn how you can help make this celebration one for the books. Don&rsquo\;t miss your chance to be part of this incredible 25-year legacy!</span></span></strong></div>\n
LOCATION:Suncoast Builders Association Office 6650 Professional Pkwy West Suite 102 Sarasota\, FL 34240
UID:e.9232.4488
SEQUENCE:3
DTSTAMP:20260419T215536Z
URL:https://business.ms-bia.org/events/details/sarasota-slam-committee-meeting-4488
END:VEVENT

END:VCALENDAR
