BEGIN:VCALENDAR
VERSION:2.0
PRODID:-//ChamberMaster//Event Calendar 2.0//EN
METHOD:PUBLISH
X-PUBLISHED-TTL:P3D
REFRESH-INTERVAL:P3D
CALSCALE:GREGORIAN
BEGIN:VEVENT
DTSTART:20250204T163000Z
DTEND:20250204T173000Z
X-MICROSOFT-CDO-ALLDAYEVENT:FALSE
SUMMARY:Sales & Marketing Council Meeting
DESCRIPTION:The Sales and Marketing Council brings together leading sales and marketing professionals in the home-building industry to collaborate\, share ideas\, and work together to create meaningful and impactful events. This dynamic group is at the heart of planning and executing initiatives that drive success and engagement across the industry.\n\nCome ready to contribute your ideas and have some fun as we shape an exciting calendar of events for the year!
X-ALT-DESC;FMTTYPE=text/html:<p><span style="font-size:16px\;"><span style="font-family:times new roman\;">The Sales and Marketing Council brings together leading sales and marketing professionals in the home-building industry to collaborate\, share ideas\, and work together to create meaningful and impactful events. This dynamic group is at the heart of planning and executing initiatives that drive success and engagement across the industry.</span></span></p>\n\n<p><span style="font-size:16px\;"><span style="font-family:times new roman\;">Come ready to contribute your ideas and have some fun as we shape an exciting calendar of events for the year!</span></span></p>\n
LOCATION:Panera Bread UTC 215 N. Cattleman Rd.\, Sarasota\, 34243
UID:e.9232.4493
SEQUENCE:3
DTSTAMP:20260421T132740Z
URL:https://business.ms-bia.org/events/details/sales-marketing-council-meeting-4493
END:VEVENT

END:VCALENDAR
