BEGIN:VCALENDAR
VERSION:2.0
PRODID:-//ChamberMaster//Event Calendar 2.0//EN
METHOD:PUBLISH
X-PUBLISHED-TTL:P3D
REFRESH-INTERVAL:P3D
CALSCALE:GREGORIAN
BEGIN:VEVENT
DTSTART:20170905T190000Z
DTEND:20170905T203000Z
X-MICROSOFT-CDO-ALLDAYEVENT:FALSE
SUMMARY:Sales & Marketing Council Planning Meeting
DESCRIPTION:This is the SMC Planning meeting for 2017. We will provide refreshments\, so come prepared to work & have some fun planning the events for the year! \n\nThe Sales and Marketing Council brings together the sales and marketing professionals in the home building industry to help improve their sales and marketing techniques and success through educational opportunities\, exchange of ideas\, and events or activities specifically targeted for your professional growth. The members of this council are responsible for the planning and implementation of their events and activities.\n\n\n\nThis council is designed specifically for individuals seeking greater understanding of the new homes sales industry and serves to recognize those members through award programs that showcase examples of sales and marketing excellence. Any builder\, associate or affiliate member or employee of a firm that is a member of MSBIA is eligible for membership in the Council. Members of the local council automatically become members of NAHB's National Sales & Marketing Council.
X-ALT-DESC;FMTTYPE=text/html:<p><span style="background:white\;"><span style="color:#444444\;"><span style="font-family:arial\,sans-serif\;"><span style="font-size:10.5pt\;">This is the SMC Planning meeting for 2017. We will provide refreshments\, so come prepared to work &amp\; have some fun planning the events for the year! </span></span></span></span></p>\n\n<p><span style="background:white\;"><span style="color:#444444\;"><span style="font-family:arial\,sans-serif\;"><span style="font-size:10.5pt\;">The Sales and Marketing Council brings together the sales and marketing professionals in the home building industry to help improve their sales and marketing techniques and success through educational opportunities\, exchange of ideas\, and events or activities specifically targeted for your professional growth. The members of this council are responsible for the planning and implementation of their events and activities.</span></span></span></span><br style="box-sizing:border-box\;" />\n<br style="box-sizing:border-box\;" />\n<span style="background:white\;"><span style="color:#444444\;"><span style="font-family:arial\,sans-serif\;"><span style="font-size:10.5pt\;">This council is designed specifically for individuals seeking greater understanding of the new homes sales industry and serves to recognize those members through award programs that showcase examples of sales and marketing excellence. Any builder\, associate or affiliate member or employee of a firm that is a member of&nbsp\;<span style="font-size:10.5pt\;">MSBIA</span></span>&nbsp\;<span style="background-image:initial\;background-position:initial\;background-size:initial\;background-repeat:initial\;background-attachment:initial\;background-origin:initial\;background-clip:initial\;"><span style="font-size:10.5pt\;">is eligible for membership in the Council. Members of the local council automatically become members of NAHB&rsquo\;s National Sales &amp\; Marketing Council.</span></span></span></span></span></p>\n
LOCATION:Manatee-Sarasota BIA Office 6650 Professional Parkway West Suite 102 Sarasota\, FL 34240
UID:e.9232.1610
SEQUENCE:3
DTSTAMP:20260422T215527Z
URL:https://business.ms-bia.org/events/details/sales-marketing-council-meeting-09-06-2017-1610
END:VEVENT

END:VCALENDAR
