BEGIN:VCALENDAR
VERSION:2.0
PRODID:-//ChamberMaster//Event Calendar 2.0//EN
METHOD:PUBLISH
X-PUBLISHED-TTL:P3D
REFRESH-INTERVAL:P3D
CALSCALE:GREGORIAN
BEGIN:VEVENT
DTSTART:20150804T200000Z
DTEND:20150804T210000Z
X-MICROSOFT-CDO-ALLDAYEVENT:FALSE
SUMMARY:Sales & Marketing Council Meeting
DESCRIPTION:The Sales and Marketing Council brings together the sales and marketing professionals in the home building industry to help improve their sales and marketing techniques and success through educational opportunities\, exchange of ideas\, and events or activities specifically targeted for your professional growth. The members of this council are responsible for the planning and implementation of their events and activities.\n\n\n\nThis council is designed specifically for individuals seeking greater understanding of the new homes sales industry and serves to recognize those members through award programs that showcase examples of sales and marketing excellence. Any builder\, associate or affiliate member or employee of a firm that is a member of MSBIA is eligible for membership in the Council. Members of the local council automatically become members of NAHB's National Sales & Marketing Council.
X-ALT-DESC;FMTTYPE=text/html:<span style="font-size:14px\;"><span style="font-family:arial\;"><span style="color: rgb(68\, 68\, 68)\; line-height: 20px\;">The Sales and Marketing Council brings together the sales and marketing professionals in the home building industry to help improve their sales and marketing techniques and success through educational opportunities\, exchange of ideas\, and events or activities specifically targeted for your professional growth. The members of this council are responsible for the planning and implementation of their events and activities.</span><br style="box-sizing: border-box\; color: rgb(68\, 68\, 68)\; font-family: 'Open Sans'\, sans-serif\; font-size: 16px\; line-height: 20px\;" />\n<br style="box-sizing: border-box\; color: rgb(68\, 68\, 68)\; font-family: 'Open Sans'\, sans-serif\; font-size: 16px\; line-height: 20px\;" />\n<span style="color: rgb(68\, 68\, 68)\; line-height: 20px\;">This council is designed specifically for individuals seeking greater understanding of the new homes sales industry and serves to recognize those members through award programs that showcase examples of sales and marketing excellence. Any builder\, associate or affiliate member or employee of a firm that is a member of MSBIA is eligible for membership in the Council. Members of the local council automatically become members of NAHB&rsquo\;s National Sales &amp\; Marketing Council.</span></span></span>
LOCATION:Manatee-Sarasota BIA Office 6983 Professional Parkway East Sarasota\, FL 34240
UID:e.9232.465
SEQUENCE:3
DTSTAMP:20260421T192624Z
URL:https://business.ms-bia.org/events/details/sales-marketing-council-meeting-08-04-2015-465
END:VEVENT

END:VCALENDAR
