BEGIN:VCALENDAR
VERSION:2.0
PRODID:-//ChamberMaster//Event Calendar 2.0//EN
METHOD:PUBLISH
X-PUBLISHED-TTL:P3D
REFRESH-INTERVAL:P3D
CALSCALE:GREGORIAN
BEGIN:VEVENT
DTSTART:20160218T160000Z
DTEND:20160218T170000Z
X-MICROSOFT-CDO-ALLDAYEVENT:FALSE
SUMMARY:Remodelers Council Tour PGT
DESCRIPTION:PGT University hosts a plant tour for the Manatee-Sarasota BIA Remodelers Council.
X-ALT-DESC;FMTTYPE=text/html:PGT University hosts a plant tour for the Manatee-Sarasota BIA&nbsp\;Remodelers Council.
LOCATION:PGT Industries 1070 Technology Dr\, North Venice\, FL 34275
UID:e.9232.1043
SEQUENCE:3
DTSTAMP:20260421T132617Z
URL:https://business.ms-bia.org/events/details/remodelers-council-tour-pgt-02-18-2016-1043
END:VEVENT

END:VCALENDAR
