BEGIN:VCALENDAR
VERSION:2.0
PRODID:-//ChamberMaster//Event Calendar 2.0//EN
METHOD:PUBLISH
X-PUBLISHED-TTL:P3D
REFRESH-INTERVAL:P3D
CALSCALE:GREGORIAN
BEGIN:VEVENT
DTSTART:20151119T163000Z
DTEND:20151119T180000Z
X-MICROSOFT-CDO-ALLDAYEVENT:FALSE
SUMMARY:Remodelers Council Meeting
DESCRIPTION:Please join the Remodelers Council in welcoming Nathan Cross as the new Chair of the Council for 2016\, and Interim Building Official Kathleen Croteau as she gives us an update on Sarasota County.
X-ALT-DESC;FMTTYPE=text/html:<span style="color: rgb(33\, 33\, 33)\; font-family: Arial\, sans-serif\; font-size: 16px\; line-height: normal\;">Please join the Remodelers Council in welcoming Nathan Cross as the new Chair of the Council for 2016\, and Interim Building Official Kathleen Croteau as she gives us an update on Sarasota County.</span>
LOCATION:MSBIA Office 6983 Professional Parkway East Sarasota\, FL 34240
UID:e.9232.13
SEQUENCE:3
DTSTAMP:20260421T132611Z
URL:https://business.ms-bia.org/events/details/remodelers-council-meeting-11-19-2015-13
END:VEVENT

END:VCALENDAR
