BEGIN:VCALENDAR
VERSION:2.0
PRODID:-//ChamberMaster//Event Calendar 2.0//EN
METHOD:PUBLISH
X-PUBLISHED-TTL:P3D
REFRESH-INTERVAL:P3D
CALSCALE:GREGORIAN
BEGIN:VEVENT
DTSTART:20150618T153000Z
DTEND:20150618T170000Z
X-MICROSOFT-CDO-ALLDAYEVENT:FALSE
SUMMARY:Remodelers Council Meeting
DESCRIPTION:Join local remodelers to discuss area concerns\,learn about new products and receive education.
X-ALT-DESC;FMTTYPE=text/html:Join local remodelers to discuss area concerns\,learn about new products and receive education.
LOCATION:The Florida House 4454 S Beneva Rd Sarasota\, FL 34233
UID:e.9232.8
SEQUENCE:3
DTSTAMP:20260421T221316Z
URL:https://business.ms-bia.org/events/details/remodelers-council-meeting-06-18-2015-8
END:VEVENT

END:VCALENDAR
