BEGIN:VCALENDAR
VERSION:2.0
PRODID:-//ChamberMaster//Event Calendar 2.0//EN
METHOD:PUBLISH
X-PUBLISHED-TTL:P3D
REFRESH-INTERVAL:P3D
CALSCALE:GREGORIAN
BEGIN:VEVENT
DTSTART:20150521T153000Z
DTEND:20150521T170000Z
X-MICROSOFT-CDO-ALLDAYEVENT:FALSE
SUMMARY:Remodelers Council Meeting
DESCRIPTION:Join us for a review of The 2014 Florida Building Code   Energy & Mechanical Changes You May or May Not be Concerned With\n\nPresented by: Dennis Stroer of CALCS-PLUS\n\n \n\nClick here for full agenda.
X-ALT-DESC;FMTTYPE=text/html:Join us for a review of The 2014 Florida Building Code &ndash\; Energy &amp\; Mechanical&nbsp\;Changes You May or May Not be Concerned With<br />\nPresented by: Dennis Stroer of CALCS-PLUS<br />\n&#8203\;<br />\n<a href="http://cloud.chambermaster.com/userfiles/UserFiles/chambers/9232/File/RemodelersCouncilAgenda5-21-15.pdf">Click here for full agenda.</a>
LOCATION:Location to be announced depending on number of registrations.
UID:e.9232.7
SEQUENCE:3
DTSTAMP:20260421T221310Z
URL:https://business.ms-bia.org/events/details/remodelers-council-meeting-05-21-2015-7
END:VEVENT

END:VCALENDAR
