BEGIN:VCALENDAR
VERSION:2.0
PRODID:-//ChamberMaster//Event Calendar 2.0//EN
METHOD:PUBLISH
X-PUBLISHED-TTL:P3D
REFRESH-INTERVAL:P3D
CALSCALE:GREGORIAN
BEGIN:VEVENT
DTSTART:20150319T153000Z
DTEND:20150319T170000Z
X-MICROSOFT-CDO-ALLDAYEVENT:FALSE
SUMMARY:Remodelers Council Meeting
DESCRIPTION:Join local remodelers to discuss area concerns\,learn about new products and receive education.\n\n\n\nTopic for March: Automation and Control System Considerations For Remodeling Contractors
X-ALT-DESC;FMTTYPE=text/html:Join local remodelers to discuss area concerns\,learn about new products and receive education.<br />\n<br />\nTopic for March:&nbsp\;<span style="color:#000080\;"><strong>Automation and Control System Considerations For Remodeling&nbsp\;Contractors</strong></span>
LOCATION:MSBIA Office 6983 Professional Parkway East Sarasota\, FL 34240
UID:e.9232.5
SEQUENCE:3
DTSTAMP:20260422T014951Z
URL:https://business.ms-bia.org/events/details/remodelers-council-meeting-03-19-2015-5
END:VEVENT

END:VCALENDAR
