BEGIN:VCALENDAR
VERSION:2.0
PRODID:-//ChamberMaster//Event Calendar 2.0//EN
METHOD:PUBLISH
X-PUBLISHED-TTL:P3D
REFRESH-INTERVAL:P3D
CALSCALE:GREGORIAN
BEGIN:VEVENT
DTSTART:20150219T163000Z
DTEND:20150219T180000Z
X-MICROSOFT-CDO-ALLDAYEVENT:FALSE
SUMMARY:Remodelers Council Meeting
DESCRIPTION:Construction Law\, Liens and Bonding Part 1 - (Continuing Education Presentation...Parts 2  and 3 to be presented at a later date for full credit)\n\n\n\nNew Challenges for Remodelers from New Governments in DC\, Tallahassee and Sarasota-Manatee\n\n\n\nPresented by: David E. Gurley and Casey Colburn
X-ALT-DESC;FMTTYPE=text/html:Construction Law\, Liens and Bonding Part 1 - (Continuing Education Presentation...Parts 2 &nbsp\;and 3 to be presented at a later date for full credit)<br />\n<br />\nNew Challenges for Remodelers from New Governments in DC\, Tallahassee and Sarasota-Manatee<br />\n<br />\nPresented by:&nbsp\;<a href="http://gurleyvitale.com/lawyers/david-e-gurley">David E. Gurley</a> and <a href="http://caseycolburn.com/bio/">Casey </a><a href="http://caseycolburn.com/bio/">Colburn</a>
LOCATION:MSBIA Office 6983 Professional Parkway East Sarasota\, FL 34240
UID:e.9232.4
SEQUENCE:3
DTSTAMP:20260422T034130Z
URL:https://business.ms-bia.org/events/details/remodelers-council-meeting-02-19-2015-4
END:VEVENT

END:VCALENDAR
