BEGIN:VCALENDAR
VERSION:2.0
PRODID:-//ChamberMaster//Event Calendar 2.0//EN
METHOD:PUBLISH
X-PUBLISHED-TTL:P3D
REFRESH-INTERVAL:P3D
CALSCALE:GREGORIAN
BEGIN:VEVENT
DTSTART:20150115T163000Z
DTEND:20150115T180000Z
X-MICROSOFT-CDO-ALLDAYEVENT:FALSE
SUMMARY:Remodelers Council Meeting
DESCRIPTION:Join local remodelers to discuss area concerns\,learn about new products and receive education.
X-ALT-DESC;FMTTYPE=text/html:Join local remodelers to discuss area concerns\,learn about new products and receive education.
LOCATION:MSBIA Office 6983 Professional Parkway East Sarasota\, FL 34240
UID:e.9232.3
SEQUENCE:3
DTSTAMP:20260422T070227Z
URL:https://business.ms-bia.org/events/details/remodelers-council-meeting-01-15-2015-3
END:VEVENT

END:VCALENDAR
