BEGIN:VCALENDAR
VERSION:2.0
PRODID:-//ChamberMaster//Event Calendar 2.0//EN
METHOD:PUBLISH
X-PUBLISHED-TTL:P3D
REFRESH-INTERVAL:P3D
CALSCALE:GREGORIAN
BEGIN:VEVENT
DTSTART:20190122T163000Z
DTEND:20190122T180000Z
X-MICROSOFT-CDO-ALLDAYEVENT:FALSE
SUMMARY:Remodeler's Council Luncheon
DESCRIPTION:Join us for the first Remodeler's Council Luncheon of 2019. We will be meeting for lunch to discuss ideas to reformat the MSBIA Remodeler's Council. Open to Members and Potential Members.
X-ALT-DESC;FMTTYPE=text/html:Join us for the first Remodeler&#39\;s Council Luncheon of 2019. We will be meeting for lunch to discuss ideas to reformat the MSBIA Remodeler&#39\;s Council. Open to Members and Potential Members.
LOCATION:Beef O'Brady's 4286 53rd Ave E Bradenton\, FL 34203
UID:e.9232.2106
SEQUENCE:3
DTSTAMP:20260423T235119Z
URL:https://business.ms-bia.org/events/details/remodeler-s-council-luncheon-2106
END:VEVENT

END:VCALENDAR
