BEGIN:VCALENDAR
VERSION:2.0
PRODID:-//ChamberMaster//Event Calendar 2.0//EN
METHOD:PUBLISH
X-PUBLISHED-TTL:P3D
REFRESH-INTERVAL:P3D
CALSCALE:GREGORIAN
BEGIN:VEVENT
DTSTART:20180328T200000Z
DTEND:20180328T220000Z
X-MICROSOFT-CDO-ALLDAYEVENT:FALSE
SUMMARY:Professional Women in Building (PWB) Meet & Greet
DESCRIPTION:Join us for our first Professional Women in Building Meet & Greet. This meeting is to find out the level of interest in forming the Council at a local and national level.\n\n\n\nThe NAHB Professional Women in Building Council (PWB) is the voice of women in the building industry dedicated to promoting industry professionalism and supporting members at the local\, state and national levels. Through education\, professional development and networking opportunities\, PWB helps members acquire and develop invaluable leadership and business management skills that boost career success. The council also offers various national recognition programs\, scholarships and awards.
X-ALT-DESC;FMTTYPE=text/html:<p><span style="font-size:16px\;"><span style="font-family:arial\;">Join us for our first Professional Women in Building Meet &amp\; Greet. This meeting is to find out the level of interest in forming the Council at a local and national level.<br />\n<br />\nThe NAHB Professional Women in Building Council (PWB) is the voice of women in the building industry&mdash\;dedicated to promoting industry professionalism and supporting members at the local\, state and national levels. Through education\, professional development and networking opportunities\, PWB helps members acquire and develop invaluable leadership and business management skills that boost career success. The council also offers various&nbsp\;<a href="http://www.nahb.org/en/find/award-programs/professional-women-in-building-awards/pwb-awards-archive/pwb-award-winners.aspx">national recognition programs\, scholarships and awards</a>.</span></span></p>\n
LOCATION:MSBIA Office 6650 Professional Parkway W\, Ste 102 Sarasota\, FL 34240
UID:e.9232.1873
SEQUENCE:3
DTSTAMP:20260423T064447Z
URL:https://business.ms-bia.org/events/details/professional-women-in-building-pwb-meet-greet-1873
END:VEVENT

END:VCALENDAR
