BEGIN:VCALENDAR
VERSION:2.0
PRODID:-//ChamberMaster//Event Calendar 2.0//EN
METHOD:PUBLISH
X-PUBLISHED-TTL:P3D
REFRESH-INTERVAL:P3D
CALSCALE:GREGORIAN
BEGIN:VEVENT
DTSTART:20180425T213000Z
DTEND:20180425T233000Z
X-MICROSOFT-CDO-ALLDAYEVENT:FALSE
SUMMARY:Professional Women in Building (PWB)
DESCRIPTION:Join us for our first official Professional Women in Building meeting. We will be discussing what is needed to form the Council and go over the goals in establishing a PWB chapter. \n\n\n\nCammie Longenecker (Division President Sarasota Region Taylor Morrison) will be our special guest speaker.
X-ALT-DESC;FMTTYPE=text/html:Join us for our first <strong>official</strong> Professional Women in Building meeting. We will be discussing what is needed to form the Council and go over the goals in establishing a PWB chapter.&nbsp\;<br />\n<br />\nCammie Longenecker&nbsp\;(Division President Sarasota Region Taylor Morrison) will be our special guest speaker.
LOCATION:Valentino Pizzeria Trattoria 8203 Cooper Creek Blvd Bradenton\, FL 34201
UID:e.9232.1878
SEQUENCE:3
DTSTAMP:20260423T082511Z
URL:https://business.ms-bia.org/events/details/professional-women-in-building-pwb-1878
END:VEVENT

END:VCALENDAR
