BEGIN:VCALENDAR
VERSION:2.0
PRODID:-//ChamberMaster//Event Calendar 2.0//EN
METHOD:PUBLISH
X-PUBLISHED-TTL:P3D
REFRESH-INTERVAL:P3D
CALSCALE:GREGORIAN
BEGIN:VEVENT
DTSTART:20180301T230000Z
DTEND:20180302T023000Z
X-MICROSOFT-CDO-ALLDAYEVENT:FALSE
SUMMARY:Parade of Homes Awards Gala
DESCRIPTION:Join us for an amazing night with your fellow members honoring our builders and subcontractors for the best of the 2018 Parade of Homes. Dress is cocktail/formal attire and there will be lots of photo ops so be sure to look your most fabulous! Dinner is included. There will be a cash bar.
X-ALT-DESC;FMTTYPE=text/html:<span style="color: rgb(51\, 51\, 51)\; font-family: sans-serif\, Arial\, Verdana\, &quot\;Trebuchet MS&quot\;\; font-size: 13px\; background-color: rgb(255\, 255\, 255)\;">Join us for an amazing night with your fellow members honoring our builders and subcontractors for the best of the 2018 Parade of Homes. Dress is cocktail/formal attire and there will be lots of photo ops so be sure to look your most fabulous! Dinner is included. There will be a cash bar.</span>
LOCATION:Hyatt Sarasota 1000 Boulevard of the Arts Sarasota\, FL 34236
UID:e.9232.1794
SEQUENCE:3
DTSTAMP:20260423T083356Z
URL:https://business.ms-bia.org/events/details/parade-of-homes-awards-gala-1794
END:VEVENT

END:VCALENDAR
