BEGIN:VCALENDAR
VERSION:2.0
PRODID:-//ChamberMaster//Event Calendar 2.0//EN
METHOD:PUBLISH
X-PUBLISHED-TTL:P3D
REFRESH-INTERVAL:P3D
CALSCALE:GREGORIAN
BEGIN:VEVENT
DTSTART:20150305T230000Z
DTEND:20150306T030000Z
X-MICROSOFT-CDO-ALLDAYEVENT:FALSE
SUMMARY:Parade of Homes Award Presentation
DESCRIPTION:Join us for an amazing night with your fellow members honoring our builders and subcontractors for the best of the 2015 Parade of Homes. Dress is cocktail party attire and there will be lots of photo ops so be sure to look your most fabulous! Dinner is include. There will be a cash bar.
X-ALT-DESC;FMTTYPE=text/html:Join us for an amazing night with your fellow members honoring our builders and subcontractors for the best of the 2015 Parade of Homes. Dress is cocktail party attire and there will be lots of photo ops so be sure to look your most fabulous! Dinner is include. There will be a cash bar.
LOCATION:Hyatt Sarasota 1000 Boulevard of the Arts Sarasota\, FL 34236
UID:e.9232.596
SEQUENCE:3
DTSTAMP:20260422T015447Z
URL:https://business.ms-bia.org/events/details/parade-of-homes-award-presentation-03-05-2015-596
END:VEVENT

END:VCALENDAR
