BEGIN:VCALENDAR
VERSION:2.0
PRODID:-//ChamberMaster//Event Calendar 2.0//EN
METHOD:PUBLISH
X-PUBLISHED-TTL:P3D
REFRESH-INTERVAL:P3D
CALSCALE:GREGORIAN
BEGIN:VEVENT
DTSTART;VALUE=DATE:20160220
DTEND;VALUE=DATE:20160307
TRANSP:TRANSPARENT
X-MICROSOFT-CDO-ALLDAYEVENT:TRUE
SUMMARY:Parade of Homes
DESCRIPTION:We're pleased to offer this outstanding collection of Gulf Coast properties   quality built luxury homes in a wide range of prices to meet your particular needs. From private gated communities\, custom golf course homes\, waterfront or beachfront properties\, to affordable family-oriented urban developments\, you're sure to find your perfect West Coast Florida home here.
X-ALT-DESC;FMTTYPE=text/html:<span style="font-size: 14px\;"><span style="font-family: arial\;"><span style="line-height: 17px\;">We&rsquo\;re pleased to offer this outstanding collection of Gulf Coast properties &ndash\; quality built luxury homes in a wide range of prices to meet your particular needs. From private gated communities\, custom golf course homes\, waterfront or beachfront properties\, to affordable family-oriented urban developments\, you&rsquo\;re sure to find your perfect West Coast Florida home here.&nbsp\;</span></span></span>
LOCATION:Multi location scattered site Parade throughout Manatee and Sarasota Counties.
UID:e.9232.1236
SEQUENCE:3
DTSTAMP:20260421T120049Z
URL:https://business.ms-bia.org/events/details/parade-of-homes-02-20-2016-1236
END:VEVENT

END:VCALENDAR
