BEGIN:VCALENDAR
VERSION:2.0
PRODID:-//ChamberMaster//Event Calendar 2.0//EN
METHOD:PUBLISH
X-PUBLISHED-TTL:P3D
REFRESH-INTERVAL:P3D
CALSCALE:GREGORIAN
BEGIN:VEVENT
DTSTART:20170303T000000Z
DTEND:20170303T033000Z
X-MICROSOFT-CDO-ALLDAYEVENT:FALSE
SUMMARY:One Enchanted Evening Parade of Homes Award Gala
DESCRIPTION:Join us for an amazing night with your fellow members honoring our builders and subcontractors for the best of the 2017 Parade of Homes. Dress is cocktail/formal attire and there will be lots of photo ops so be sure to look your most fabulous! Valet and Dinner is included. There will be a cash bar.
X-ALT-DESC;FMTTYPE=text/html:Join us for an amazing night with your fellow members honoring our builders and subcontractors for the best of the 2017 Parade of Homes. Dress is cocktail/formal attire and there will be lots of photo ops so be sure to look your most fabulous! Valet and Dinner is included. There will be a cash bar.
LOCATION:The Ritz-Carlton\, Sarasota 1111 Ritz-Carlton Drive Sarasota\, FL 34236
UID:e.9232.1762
SEQUENCE:3
DTSTAMP:20260422T110756Z
URL:https://business.ms-bia.org/events/details/one-enchanted-evening-parade-of-homes-award-gala-1762
END:VEVENT

END:VCALENDAR
