BEGIN:VCALENDAR
VERSION:2.0
PRODID:-//ChamberMaster//Event Calendar 2.0//EN
METHOD:PUBLISH
X-PUBLISHED-TTL:P3D
REFRESH-INTERVAL:P3D
CALSCALE:GREGORIAN
BEGIN:VEVENT
DTSTART:20250717T140000Z
DTEND:20250717T150000Z
X-MICROSOFT-CDO-ALLDAYEVENT:FALSE
SUMMARY:Offshore Captains Meeting- 2025 Sarasota Slam
DESCRIPTION:Offshore Captains Meeting for the 2025 Sarasota Slam. Offshore anglers released to fish after the meeting.
X-ALT-DESC;FMTTYPE=text/html:Offshore Captains Meeting for the 2025 Sarasota Slam. Offshore anglers released to fish after the meeting.
LOCATION:Marina Jack
UID:e.9232.4330
SEQUENCE:3
DTSTAMP:20260422T060121Z
URL:https://business.ms-bia.org/events/details/offshore-captains-meeting-2025-sarasota-slam-4330
END:VEVENT

END:VCALENDAR
